BEGIN:VCALENDAR
VERSION:2.0
PRODID:-//Jaedicke Akademie - ECPv6.0.6.2//NONSGML v1.0//EN
CALSCALE:GREGORIAN
METHOD:PUBLISH
X-ORIGINAL-URL:https://jaedicke-akademie.de
X-WR-CALDESC:Events for Jaedicke Akademie
REFRESH-INTERVAL;VALUE=DURATION:PT1H
X-Robots-Tag:noindex
X-PUBLISHED-TTL:PT1H
BEGIN:VTIMEZONE
TZID:Europe/Berlin
BEGIN:DAYLIGHT
TZOFFSETFROM:+0100
TZOFFSETTO:+0200
TZNAME:CEST
DTSTART:20220327T010000
END:DAYLIGHT
BEGIN:STANDARD
TZOFFSETFROM:+0200
TZOFFSETTO:+0100
TZNAME:CET
DTSTART:20221030T010000
END:STANDARD
END:VTIMEZONE
BEGIN:VEVENT
DTSTART;TZID=Europe/Berlin:20221208T080000
DTEND;TZID=Europe/Berlin:20221211T170000
DTSTAMP:20260423T110552
CREATED:20220226T151355Z
LAST-MODIFIED:20220226T151355Z
UID:4050-1670486400-1670778000@jaedicke-akademie.de
SUMMARY:emTrace® Level 3
DESCRIPTION:
URL:https://jaedicke-akademie.de/veranstaltung/emtrace-level-3/
END:VEVENT
BEGIN:VEVENT
DTSTART;VALUE=DATE:20221203
DTEND;VALUE=DATE:20221205
DTSTAMP:20260423T110552
CREATED:20220226T151248Z
LAST-MODIFIED:20220226T151315Z
UID:4047-1670054400-1670198399@jaedicke-akademie.de
SUMMARY:Gesichterlesen Professional
DESCRIPTION:
URL:https://jaedicke-akademie.de/veranstaltung/gesichterlesen-basic-2/
END:VEVENT
BEGIN:VEVENT
DTSTART;TZID=Europe/Berlin:20221103T080000
DTEND;TZID=Europe/Berlin:20221106T170000
DTSTAMP:20260423T110552
CREATED:20220226T151210Z
LAST-MODIFIED:20220226T151210Z
UID:4045-1667462400-1667754000@jaedicke-akademie.de
SUMMARY:emTrace® Level 2
DESCRIPTION:
URL:https://jaedicke-akademie.de/veranstaltung/emtrace-level-2/
END:VEVENT
BEGIN:VEVENT
DTSTART;VALUE=DATE:20221028
DTEND;VALUE=DATE:20221029
DTSTAMP:20260423T110552
CREATED:20220226T150416Z
LAST-MODIFIED:20220226T150416Z
UID:4040-1666944000-1667001599@jaedicke-akademie.de
SUMMARY:Anti Stress 4/5 Einheiten
DESCRIPTION:
URL:https://jaedicke-akademie.de/veranstaltung/anti-stress-4-5-einheiten-4/
END:VEVENT
BEGIN:VEVENT
DTSTART;VALUE=DATE:20221005
DTEND;VALUE=DATE:20221006
DTSTAMP:20260423T110552
CREATED:20220226T150202Z
LAST-MODIFIED:20220226T150306Z
UID:4037-1664956800-1665014399@jaedicke-akademie.de
SUMMARY:Anti Stress 5/5 Einheiten
DESCRIPTION:
URL:https://jaedicke-akademie.de/veranstaltung/anti-stress-4-5-einheiten-3/
END:VEVENT
BEGIN:VEVENT
DTSTART;TZID=Europe/Berlin:20220922T080000
DTEND;TZID=Europe/Berlin:20220925T170000
DTSTAMP:20260423T110552
CREATED:20220226T151049Z
LAST-MODIFIED:20220226T151049Z
UID:4043-1663833600-1664125200@jaedicke-akademie.de
SUMMARY:emTrace® Level 1
DESCRIPTION:
URL:https://jaedicke-akademie.de/veranstaltung/emtrace-level-1/
END:VEVENT
BEGIN:VEVENT
DTSTART;VALUE=DATE:20220921
DTEND;VALUE=DATE:20220922
DTSTAMP:20260423T110552
CREATED:20220226T150123Z
LAST-MODIFIED:20220226T150323Z
UID:4035-1663747200-1663804799@jaedicke-akademie.de
SUMMARY:Anti Stress 3/5 Einheiten
DESCRIPTION:
URL:https://jaedicke-akademie.de/veranstaltung/anti-stress-3-5-einheiten-2/
END:VEVENT
BEGIN:VEVENT
DTSTART;VALUE=DATE:20220914
DTEND;VALUE=DATE:20220915
DTSTAMP:20260423T110552
CREATED:20220226T150047Z
LAST-MODIFIED:20220226T150338Z
UID:4033-1663142400-1663199999@jaedicke-akademie.de
SUMMARY:Anti Stress 2/5 Einheiten
DESCRIPTION:
URL:https://jaedicke-akademie.de/veranstaltung/anti-stress-2-5-einheiten-2/
END:VEVENT
BEGIN:VEVENT
DTSTART;VALUE=DATE:20220907
DTEND;VALUE=DATE:20220908
DTSTAMP:20260423T110552
CREATED:20220216T171105Z
LAST-MODIFIED:20220226T150351Z
UID:3541-1662537600-1662595199@jaedicke-akademie.de
SUMMARY:Anti Stress 1/5 Einheiten
DESCRIPTION:
URL:https://jaedicke-akademie.de/veranstaltung/anti-stress-1-5-einheiten-2/
END:VEVENT
BEGIN:VEVENT
DTSTART;VALUE=DATE:20220625
DTEND;VALUE=DATE:20220627
DTSTAMP:20260423T110552
CREATED:20220216T170927Z
LAST-MODIFIED:20220226T150608Z
UID:3538-1656144000-1656287999@jaedicke-akademie.de
SUMMARY:emTrace® Level 1 Wochenende 2/2
DESCRIPTION:
URL:https://jaedicke-akademie.de/veranstaltung/emtrace-level-1-wochenende-1-2-2/
END:VEVENT
BEGIN:VEVENT
DTSTART;VALUE=DATE:20220618
DTEND;VALUE=DATE:20220620
DTSTAMP:20260423T110552
CREATED:20220216T170856Z
LAST-MODIFIED:20220226T150541Z
UID:3536-1655539200-1655683199@jaedicke-akademie.de
SUMMARY:emTrace® Level 1 Wochenende 1/2
DESCRIPTION:
URL:https://jaedicke-akademie.de/veranstaltung/emtrace-level-1-wochenende-1-2/
END:VEVENT
BEGIN:VEVENT
DTSTART;VALUE=DATE:20220604
DTEND;VALUE=DATE:20220606
DTSTAMP:20260423T110552
CREATED:20220216T132412Z
LAST-MODIFIED:20220226T150455Z
UID:3529-1654329600-1654473599@jaedicke-akademie.de
SUMMARY:Gesichterlesen Basic
DESCRIPTION:
URL:https://jaedicke-akademie.de/veranstaltung/gesichterlesen-basic/
END:VEVENT
BEGIN:VEVENT
DTSTART;VALUE=DATE:20220330
DTEND;VALUE=DATE:20220331
DTSTAMP:20260423T110552
CREATED:20220216T132249Z
LAST-MODIFIED:20220226T150908Z
UID:3525-1648627200-1648684799@jaedicke-akademie.de
SUMMARY:Anti Stress 5/5 Einheiten
DESCRIPTION:
URL:https://jaedicke-akademie.de/veranstaltung/anti-stress-4-5-einheiten-2/
END:VEVENT
BEGIN:VEVENT
DTSTART;VALUE=DATE:20220324
DTEND;VALUE=DATE:20220328
DTSTAMP:20260423T110552
CREATED:20220216T132333Z
LAST-MODIFIED:20220226T150720Z
UID:3527-1648108800-1648425599@jaedicke-akademie.de
SUMMARY:emTrace Level 4
DESCRIPTION:
URL:https://jaedicke-akademie.de/veranstaltung/emtrace-level-4/
END:VEVENT
BEGIN:VEVENT
DTSTART;VALUE=DATE:20220323
DTEND;VALUE=DATE:20220324
DTSTAMP:20260423T110552
CREATED:20220216T132215Z
LAST-MODIFIED:20220226T150843Z
UID:3523-1648022400-1648079999@jaedicke-akademie.de
SUMMARY:Anti Stress 4/5 Einheiten
DESCRIPTION:
URL:https://jaedicke-akademie.de/veranstaltung/anti-stress-4-5-einheiten/
END:VEVENT
BEGIN:VEVENT
DTSTART;VALUE=DATE:20220316
DTEND;VALUE=DATE:20220317
DTSTAMP:20260423T110552
CREATED:20220216T132131Z
LAST-MODIFIED:20220226T150815Z
UID:3520-1647417600-1647475199@jaedicke-akademie.de
SUMMARY:Anti Stress 3/5 Einheiten
DESCRIPTION:
URL:https://jaedicke-akademie.de/veranstaltung/anti-stress-3-5-einheiten/
END:VEVENT
BEGIN:VEVENT
DTSTART;VALUE=DATE:20220309
DTEND;VALUE=DATE:20220310
DTSTAMP:20260423T110552
CREATED:20220216T132052Z
LAST-MODIFIED:20220226T150758Z
UID:3518-1646812800-1646870399@jaedicke-akademie.de
SUMMARY:Anti-Stress 2/5 Einheiten
DESCRIPTION:
URL:https://jaedicke-akademie.de/veranstaltung/anti-stress-2-5-einheiten/
END:VEVENT
BEGIN:VEVENT
DTSTART;VALUE=DATE:20220302
DTEND;VALUE=DATE:20220303
DTSTAMP:20260423T110552
CREATED:20220216T131322Z
LAST-MODIFIED:20220216T131322Z
UID:3516-1646208000-1646265599@jaedicke-akademie.de
SUMMARY:Anti Stress 1/5 Einheiten
DESCRIPTION:
URL:https://jaedicke-akademie.de/veranstaltung/anti-stress-1-5-einheiten/
END:VEVENT
END:VCALENDAR